BEGIN:VCALENDAR
VERSION:2.0
PRODID:-//Plone.org//NONSGML plone.app.event//EN
X-WR-TIMEZONE:Europe/Helsinki
BEGIN:VEVENT
SUMMARY:6e séminaire annuel du centre de connaissances en matière de ges
 tion des risques de catastrophe
DTSTART;TZID=Europe/Helsinki:20221122T140000
DTEND;TZID=Europe/Helsinki:20221123T170000
DTSTAMP:20260419T200340Z
UID:14957e0b32f84b8cb8f58696a29aac36@varnish: 6081
CONTACT:ec-drmkc-annual-seminar@ec.europa.eu\, https://drmkc.jrc.ec.europa
 .eu/events-news/drmkc-annual-seminars/6th-drmkc-annual-seminar
CREATED:20221012T063333Z
DESCRIPTION:Cet événement de 2 jours organisé par la DRMKC vise à part
 ager les réalisations du pilier scientifique du réseau de connaissances 
 en matière de protection civile de l’Union (UCPKN) pour relever des dé
 fis tels que les événements composés\, simultanés et en cascade qui do
 ivent être inclus dans l’analyse des risques ou les défis en matière 
 de communication dans la gestion des risques\, entre autres. Une manifesta
 tion hybride est coorganisée avec le ministère français de l’intérie
 ur et organisée conjointement avec la DG ECHO à Paris.
LAST-MODIFIED:20221122T170842Z
LOCATION:Paris\, France/hybride
URL:https://climate-adapt.eea.europa.eu/fr/more-events/6th-drmkc-annual-se
 minar-1
END:VEVENT
BEGIN:VTIMEZONE
TZID:Europe/Helsinki
X-LIC-LOCATION:Europe/Helsinki
BEGIN:STANDARD
DTSTART:20221030T030000
TZNAME:EET
TZOFFSETFROM:+0300
TZOFFSETTO:+0200
END:STANDARD
END:VTIMEZONE
END:VCALENDAR
