BEGIN:VCALENDAR
VERSION:2.0
PRODID:-//Plone.org//NONSGML plone.app.event//EN
X-WR-TIMEZONE:Europe/Helsinki
BEGIN:VEVENT
SUMMARY:COP 26 — Session extraordinaire: Solutions climatiques à fort i
 mpact
DTSTART;TZID=Europe/Helsinki:20211110T194500
DTEND;TZID=Europe/Helsinki:20211110T204500
DTSTAMP:20260420T082942Z
UID:b491723f556f463187f2295b80aba505@climate-adapt.eea.europa.eu
CONTACT:https://solutions.solarimpulse.com/e-pitch-high-impact-climate-sol
 utions
CREATED:20220910T195957Z
DESCRIPTION:Cet événement montrera comment les solutions les plus rentab
 les en matière de climat contribuent aux objectifs climatiques de la COP 
 21 et engagera la discussion avec les institutions afin d’accélérer le
 ur mise en œuvre. Après une introduction par le directeur général de l
 a Banque européenne d’investissement\, Chris Hurst\, et Bertrand Piccar
 d\, du côté de la Fondation Solar Impulse\, une présentation d’une s
 érie de solutions à fort impact dans différents secteurs sera organisé
 e\, suivie de deux séries de tables rondes.
LAST-MODIFIED:20220925T153751Z
LOCATION:Online and Glasgow\, UK
URL:https://climate-adapt.eea.europa.eu/fr/more-events/cop26-2013-special-
 session-high-impact-climate-solutions
END:VEVENT
BEGIN:VTIMEZONE
TZID:Europe/Helsinki
X-LIC-LOCATION:Europe/Helsinki
BEGIN:STANDARD
DTSTART:20211031T030000
TZNAME:EET
TZOFFSETFROM:+0300
TZOFFSETTO:+0200
END:STANDARD
END:VTIMEZONE
END:VCALENDAR
