BEGIN:VCALENDAR
VERSION:2.0
PRODID:-//Plone.org//NONSGML plone.app.event//EN
X-WR-TIMEZONE:Europe/Helsinki
BEGIN:VEVENT
SUMMARY:Dialogue sur des transitions justes
DTSTART;TZID=Europe/Helsinki:20221012T140000
DTEND;TZID=Europe/Helsinki:20221012T160000
DTSTAMP:20260421T020211Z
UID:ea1c9bf00cf0425188aaa94538272199@climate-adapt.eea.europa.eu
CONTACT:https://www.wur.nl/en/activity/just-transitions-dialogue-just-resi
 lience-you-show-it...-and-then-you-know-it.htm
CREATED:20221104T125354Z
DESCRIPTION:Dans le cadre de ce dialogue\, intitulé: «Une résilience ju
 ste: vous le montrez... Et vous le savez»\, organisé par les RU de Wagen
 ingen\, l’accent sera mis sur l’importance d’une résilience juste d
 ans les stratégies d’adaptation au niveau de l’UE et au niveau local\
 , et sur la manière de mesurer la résilience juste.
LAST-MODIFIED:20221122T163414Z
LOCATION:En ligne
URL:https://climate-adapt.eea.europa.eu/fr/more-events/dialogue-on-just-tr
 ansitions
END:VEVENT
BEGIN:VTIMEZONE
TZID:Europe/Helsinki
X-LIC-LOCATION:Europe/Helsinki
BEGIN:DAYLIGHT
DTSTART:20220327T040000
TZNAME:EEST
TZOFFSETFROM:+0200
TZOFFSETTO:+0300
END:DAYLIGHT
END:VTIMEZONE
END:VCALENDAR
