BEGIN:VCALENDAR
VERSION:2.0
PRODID:-//Plone.org//NONSGML plone.app.event//EN
X-WR-TIMEZONE:Europe/Helsinki
BEGIN:VEVENT
SUMMARY:Manifestation parallèle de l’ECCA2023: intégration de l’adap
 tation au niveau local
DTSTART;TZID=Europe/Helsinki:20230620T020000
DTEND;TZID=Europe/Helsinki:20230621T015959
DTSTAMP:20260420T183913Z
UID:2072c31f893641ca9803b72e8d9bb070@climate-adapt.eea.europa.eu
CONTACT:https://www.ecca2023.eu/nocca-stronger-together-for-a-climate-resi
 lient-north-will-be-present-at-ecca2023-side-event-on-mainstreaming-adapta
 tion-at-the-local-level
CREATED:20230619T142914Z
DESCRIPTION:Les messages clés de la 6e conférence nordique sur l’adapt
 ation au changement climatique (NOCCA 2023) seront présentés lors d’un
 e manifestation parallèle européenne sur l’adaptation au changement cl
 imatique (ECCA). Cette manifestation parallèle examinera et étudiera les
  mesures visant à intégrer l’adaptation au changement climatique au ni
 veau local au sein de la communauté européenne. Tous les participants de
  l’ECCA2023 intéressés par des sujets tels que les risques transfronti
 ères\, les solutions fondées sur la nature et la planification de réfé
 rence au niveau local sont invités à participer à la session.
LAST-MODIFIED:20230619T145534Z
LOCATION:Dublin\, Irlande
URL:https://climate-adapt.eea.europa.eu/fr/more-events/ecca2023-side-event
 -mainstreaming-adaptation-at-the-local-level
END:VEVENT
BEGIN:VTIMEZONE
TZID:Europe/Helsinki
X-LIC-LOCATION:Europe/Helsinki
BEGIN:DAYLIGHT
DTSTART:20230326T040000
TZNAME:EEST
TZOFFSETFROM:+0200
TZOFFSETTO:+0300
END:DAYLIGHT
END:VTIMEZONE
END:VCALENDAR
