BEGIN:VCALENDAR
VERSION:2.0
PRODID:-//Plone.org//NONSGML plone.app.event//EN
X-WR-TIMEZONE:Europe/Helsinki
BEGIN:VEVENT
SUMMARY:Lancement du rapport de l’AEE: Une résilience juste en Europe
DTSTART;TZID=Europe/Helsinki:20250610T103000
DTEND;TZID=Europe/Helsinki:20250610T114500
DTSTAMP:20260422T045713Z
UID:bc511317ee0c4045b6037e31991870ad@climate-adapt.eea.europa.eu
CATEGORIES:event,launch,EEA,just resilience
CONTACT:https://www.eea.europa.eu/en/newsroom/events/just-resilience-in-eu
 rope-report-launch
CREATED:20250528T055609Z
DESCRIPTION:Équité sociale dans la préparation au changement climatique
 : comment une résilience juste peut bénéficier aux communautés dans to
 ute l’Europe Le rapport\, qui sera publié le 10 juin 2025\, se concentr
 e sur les progrès accomplis et les moyens d’inclure les groupes les plu
 s vulnérables dans les politiques et actions européennes d’adaptation 
 au changement climatique. Lors de l'événement de lancement\, plusieurs i
 ntervenants présenteront leurs points de vue sur le sujet.
LAST-MODIFIED:20250528T055610Z
LOCATION:Online
URL:https://climate-adapt.eea.europa.eu/fr/more-events/eea-report-launch-j
 ust-resilience-in-europe
END:VEVENT
BEGIN:VTIMEZONE
TZID:Europe/Helsinki
X-LIC-LOCATION:Europe/Helsinki
BEGIN:DAYLIGHT
DTSTART:20250330T040000
TZNAME:EEST
TZOFFSETFROM:+0200
TZOFFSETTO:+0300
END:DAYLIGHT
END:VTIMEZONE
END:VCALENDAR
