BEGIN:VCALENDAR
VERSION:2.0
PRODID:-//Plone.org//NONSGML plone.app.event//EN
X-WR-TIMEZONE:Europe/Helsinki
BEGIN:VEVENT
SUMMARY:Webinaire interactif MIP4Adapt: Conditions favorisantes pour les s
 olutions fondées sur la nature
DTSTART;TZID=Europe/Helsinki:20260326T110000
DTEND;TZID=Europe/Helsinki:20260326T123000
DTSTAMP:20260420T173959Z
UID:84928b5a7a3940ee864179e395de0505@climate-adapt.eea.europa.eu
CATEGORIES:webinar,MIP4Adapt
CONTACT:https://futurium.ec.europa.eu/en/eu-mission-adaptation-community/e
 vents/making-nature-based-solutions-work-enabling-conditions-practice-even
 t-organised-mip4adapt
CREATED:20260302T180128Z
DESCRIPTION:Cet événement en ligne organisé par MIP4Adapt rassemble des
  autorités régionales et locales\, des décideurs politiques et des prat
 iciens pour explorer ce qui permet une mise en œuvre réussie des solutio
 ns basées sur la nature (NbS) dans toute l'Europe.  Les participants exp
 loreront comment les approches de financement\, de co-création et de gouv
 ernance peuvent soutenir l'adoption et la mise à l'échelle des NbS.
LAST-MODIFIED:20260302T180128Z
LOCATION:Online
URL:https://climate-adapt.eea.europa.eu/fr/more-events/exchanging-knowledg
 e-enabling-conditions-for-nature-based-solutions
END:VEVENT
BEGIN:VTIMEZONE
TZID:Europe/Helsinki
X-LIC-LOCATION:Europe/Helsinki
BEGIN:STANDARD
DTSTART:20251026T030000
TZNAME:EET
TZOFFSETFROM:+0300
TZOFFSETTO:+0200
END:STANDARD
END:VTIMEZONE
END:VCALENDAR
