BEGIN:VCALENDAR
VERSION:2.0
PRODID:-//Plone.org//NONSGML plone.app.event//EN
X-WR-TIMEZONE:Europe/Helsinki
BEGIN:VEVENT
SUMMARY:Événement annuel de NetworkNature 2024 | Vaincre les mythes: Les
  gens avec la nature
DTSTART;TZID=Europe/Helsinki:20240925T121500
DTEND;TZID=Europe/Helsinki:20240925T211500
DTSTAMP:20260421T183301Z
UID:2e8768a1ff5849319056ec98d73919fe@climate-adapt.eea.europa.eu
CATEGORIES:event,Nature-Based Solutions,NetworkNature
CONTACT:rachelle.cividino@iucn.org\, https://networknature.eu/networknatur
 e-annual-event-2024-busting-myths-people-nature
CREATED:20240528T145010Z
DESCRIPTION:La conférence annuelle NetworkNature de cette année\, financ
 ée dans le cadre d’Horizon UE et de la recherche et de l’innovation a
 u Royaume-Uni\, se concentrera sur la lutte contre les mythes en matière 
 de restauration et de gestion des écosystèmes. Cet événement s'articul
 era autour des mythes selon lesquels la pratique\, la recherche\, l'élabo
 ration de politiques et les entreprises sont en train de s'effondrer ou do
 ivent être brisées pour apporter un changement transformateur et inverse
 r la perte de biodiversité. Grâce à des études de cas\, des idées per
 sonnelles et professionnelles\, des progrès de la recherche et des initia
 tives de gouvernance\, les participants exploreront des approches inspiran
 tes pour les gens et la nature\, avec les gens et la nature.
LAST-MODIFIED:20240711T123646Z
LOCATION:Brussels\, Belgium
URL:https://climate-adapt.eea.europa.eu/fr/more-events/nn-annual-event-202
 4
END:VEVENT
BEGIN:VTIMEZONE
TZID:Europe/Helsinki
X-LIC-LOCATION:Europe/Helsinki
BEGIN:DAYLIGHT
DTSTART:20240331T040000
TZNAME:EEST
TZOFFSETFROM:+0200
TZOFFSETTO:+0300
END:DAYLIGHT
END:VTIMEZONE
END:VCALENDAR
