BEGIN:VCALENDAR
VERSION:2.0
PRODID:-//Plone.org//NONSGML plone.app.event//EN
X-WR-TIMEZONE:Europe/Helsinki
BEGIN:VEVENT
SUMMARY:Conférence mondiale sur l’avenir urbain
DTSTART;TZID=Europe/Helsinki:20141118T020000
DTEND;TZID=Europe/Helsinki:20141119T015959
DTSTAMP:20260419T195736Z
UID:d5ee82171b2d4269943c9ee401d8fd62@climate-adapt.eea.europa.eu
CONTACT:http://www.urban-future.at/en
CREATED:20220910T200024Z
LAST-MODIFIED:20220925T154952Z
LOCATION:Graz\, Austria
URL:https://climate-adapt.eea.europa.eu/fr/more-events/urban-future-global
 -conference
END:VEVENT
BEGIN:VTIMEZONE
TZID:Europe/Helsinki
X-LIC-LOCATION:Europe/Helsinki
BEGIN:STANDARD
DTSTART:20141026T030000
TZNAME:EET
TZOFFSETFROM:+0300
TZOFFSETTO:+0200
END:STANDARD
END:VTIMEZONE
END:VCALENDAR
