BEGIN:VCALENDAR
VERSION:2.0
PRODID:-//Plone.org//NONSGML plone.app.event//EN
X-WR-TIMEZONE:Europe/Helsinki
BEGIN:VEVENT
SUMMARY:Climateurope2 Seimineár gréasáin
DTSTART;VALUE=DATE:20230919
DTEND;VALUE=DATE:20230922
DTSTAMP:20260419T172134Z
UID:5a2def3d8ebe4533ac7157a3bf5baaf5@climate-adapt.eea.europa.eu
CONTACT:Climateurope2 consortium\, https://climateurope2.eu/news-events/ev
 ents/events/climateurope2-webstival-second-edition
CREATED:20241218T182720Z
DESCRIPTION:19-20 Meán Fómhair — Díreoidh an dara féile fhíorúil C
 limateurope2 ar ghnólachtaí agus ar phobail na hEorpa a chlaochlú trí 
 sheirbhísí aeráide agus réitigh thiomnaithe.
LAST-MODIFIED:20250420T090744Z
LOCATION:Online
URL:https://climate-adapt.eea.europa.eu/ga/mission/events/climateurope2web
 stival
END:VEVENT
END:VCALENDAR
