BEGIN:VCALENDAR
VERSION:2.0
PRODID:-//Plone.org//NONSGML plone.app.event//EN
X-WR-TIMEZONE:Europe/Helsinki
BEGIN:VEVENT
SUMMARY:Seimineár Gréasáin Comhpháirteach: Uirlisí nua chun Gníomha
 íochtaí Oiriúnaithe agus Maolaithe a Fhorbairt
DTSTART;TZID=Europe/Helsinki:20250605T120000
DTEND;TZID=Europe/Helsinki:20250605T133000
DTSTAMP:20260421T015721Z
UID:048743c8b56e44a3b08902ce37dd7e4e@climate-adapt.eea.europa.eu
CREATED:20250603T094750Z
LAST-MODIFIED:20250603T094901Z
URL:https://climate-adapt.eea.europa.eu/ga/mission/events/joint-webinar-ne
 w-tools-for-developing-adaptation-and-mitigation-actions
END:VEVENT
BEGIN:VTIMEZONE
TZID:Europe/Helsinki
X-LIC-LOCATION:Europe/Helsinki
BEGIN:DAYLIGHT
DTSTART:20250330T040000
TZNAME:EEST
TZOFFSETFROM:+0200
TZOFFSETTO:+0300
END:DAYLIGHT
END:VTIMEZONE
END:VCALENDAR
