BEGIN:VCALENDAR
VERSION:2.0
PRODID:-//Plone.org//NONSGML plone.app.event//EN
X-WR-TIMEZONE:Europe/Helsinki
BEGIN:VEVENT
SUMMARY:Comhdháil FLOODrisk 2016
DTSTART;TZID=Europe/Helsinki:20161017T100000
DTEND;TZID=Europe/Helsinki:20161021T235500
DTSTAMP:20260419T234921Z
UID:be3f0f220afd402bb7b7d5df00113e47@localhost:8000
CONTACT:http://floodrisk2016.net/
CREATED:20250420T105106Z
DESCRIPTION:Fiosróidh FLOODrisk 2016 dul chun cinn taighde maidir le hana
 ilís riosca i gcás tuilte agus nuálaíochtaí i gcleachtas bainistíoch
 ta riosca i gcás tuilte. Breithneoidh an chomhdháil gach gné de phriaca
 l tuile agus clúdóidh sí cúiseanna tuilte\, a dtionchar ar dhaoine\, a
 r mhaoin agus ar an gcomhshaol\, agus punanna de bhearta bainistíochta pr
 iacal.
LAST-MODIFIED:20250420T105106Z
LOCATION:Lyon\, France
URL:https://climate-adapt.eea.europa.eu/ga/more-events/floodrisk-2016-conf
 erence
END:VEVENT
BEGIN:VTIMEZONE
TZID:Europe/Helsinki
X-LIC-LOCATION:Europe/Helsinki
BEGIN:DAYLIGHT
DTSTART:20160327T040000
TZNAME:EEST
TZOFFSETFROM:+0200
TZOFFSETTO:+0300
END:DAYLIGHT
END:VTIMEZONE
END:VCALENDAR
