BEGIN:VCALENDAR
VERSION:2.0
PRODID:-//Plone.org//NONSGML plone.app.event//EN
X-WR-TIMEZONE:Europe/Helsinki
BEGIN:VEVENT
SUMMARY:Ócáid ‘Cathracha Níos Fearr’ don Todhchaí Uirbeach
DTSTART;VALUE=DATE:20260324
DTEND;VALUE=DATE:20260328
DTSTAMP:20260422T150832Z
UID:9b87c9bbd25b4091bc9ae2b1628a5791@climate-adapt.eea.europa.eu
CATEGORIES:Cities,Event
CONTACT:https://urban-future.org/event/uf26-ljubljana/
CREATED:20260120T092426Z
DESCRIPTION:Arna eagrú ag Todhchaí Uirbeach na hOstaire (UFGC GmbH)\, ta
 gann ceannairí cathrach agus lucht athraithe le chéile i Liúibleána ch
 un cathracha níos fearr a bhogadh ar aghaidh. Cumhdaítear an t-oiriúnú
  don athrú aeráide den chuid is mó i rian 4\, sochaithe athléimneacha.
  Tacaíonn Todhchaí Uirbeach le gluaiseacht ón mbun aníos san Eoraip le
  pobal domhanda de 50\,000 lucht déanta athruithe uirbeacha.
LAST-MODIFIED:20260120T092501Z
LOCATION:Ljubljana\, Slovenia
URL:https://climate-adapt.eea.europa.eu/ga/more-events/the-uf-better-citie
 s-event
END:VEVENT
END:VCALENDAR
