BEGIN:VCALENDAR
VERSION:2.0
PRODID:-//Plone.org//NONSGML plone.app.event//EN
X-WR-TIMEZONE:Europe/Helsinki
BEGIN:VEVENT
SUMMARY:Naturethon — Navigating new paths for Nature-based Solution Fina
 nce [Conairí nua a aimsiú le haghaidh Maoiniú Réitigh Dúlrabhunaithe]
DTSTART;TZID=Europe/Helsinki:20240524T074858
DTEND;TZID=Europe/Helsinki:20240930T074911
DTSTAMP:20260419T172147Z
UID:67f8de184b0e451cb4128ad46af1907c@climate-adapt.eea.europa.eu
CONTACT:Davide Michielin\, naturethon@naturanceproject.eu\, https://www.na
 turanceproject.eu/naturethon/
CREATED:20250420T111953Z
DESCRIPTION:Eagraíonn an tionscadal NATURANCE arna mhaoiniú ag an AE cru
 innithe grúpa saoránach ar fud na hEorpa agus níos faide i gcéin\, at
 á deartha chun leas a bhaint as an gcomhthuiscint ar imscaradh NbS agus c
 hun plé a spreagadh maidir lena meicníochtaí agus a n-ionstraimí airge
 adais.
LAST-MODIFIED:20250420T111955Z
LOCATION:online
URL:https://climate-adapt.eea.europa.eu/ga/naturethon-navigating-new-paths
 -for-nature-based-solution-finance
END:VEVENT
BEGIN:VTIMEZONE
TZID:Europe/Helsinki
X-LIC-LOCATION:Europe/Helsinki
BEGIN:DAYLIGHT
DTSTART:20240331T040000
TZNAME:EEST
TZOFFSETFROM:+0200
TZOFFSETTO:+0300
END:DAYLIGHT
END:VTIMEZONE
END:VCALENDAR
