BEGIN:VCALENDAR
VERSION:2.0
PRODID:-//Plone.org//NONSGML plone.app.event//EN
X-WR-TIMEZONE:Europe/Helsinki
BEGIN:VEVENT
SUMMARY:Baltička zemaljska konferencija
DTSTART;VALUE=DATE:20220530
DTEND;VALUE=DATE:20220605
DTSTAMP:20260420T044956Z
UID:f1d9a1e626024a899a38fe2abff6779f@varnish:6081
CATEGORIES:Regional Earth system,Baltic sea,Regional climate variability
CONTACT:https://www.baltic-earth.eu/events/087774/index.php.en
CREATED:20250422T113419Z
DESCRIPTION:Četvrta konferencija o baltičkoj Zemlji\, koju organizira Zn
 anost o sustavu Zemlje za regiju Baltičkog mora (Baltička Zemlja)\, odr
 žat će se u Jastarniji na poluotoku Hel u Poljskoj od 30. svibnja 2022. 
 do 3. lipnja 2022. Konferencija pokriva teme Baltičkih izvješća o procj
 eni Zemlje (BEAR)\, koja odražavaju većinu velikih izazova i istraživa
 čkih tema Baltičke Zemlje tijekom posljednjih devet godina. Neke od tema
  o kojima će se raspravljati su\, među ostalim\, prirodne opasnosti i ek
 stremni događaji\, dinamika razine mora i erozija obale\, mogućnosti odr
 živog upravljanja\, analiza i modeliranje prošlih i budućih klimatskih 
 promjena.
LAST-MODIFIED:20250422T113420Z
LOCATION:Jastarnia\, Hel Peninsula\, Poland
URL:https://climate-adapt.eea.europa.eu/hr/more-events/4th-baltic-earth-co
 nference
END:VEVENT
END:VCALENDAR
