BEGIN:VCALENDAR
VERSION:2.0
PRODID:-//Plone.org//NONSGML plone.app.event//EN
X-WR-TIMEZONE:Europe/Helsinki
BEGIN:VEVENT
SUMMARY:Peta globalna platforma za smanjenje rizika od katastrofa
DTSTART;VALUE=DATE:20170522
DTEND;VALUE=DATE:20170528
DTSTAMP:20260421T063007Z
UID:49b2f9b4e1864260a80f6cea1cd4d5fc@localhost:8001
CONTACT:http://www.unisdr.org/conferences/2017/globalplatform
CREATED:20250422T113422Z
DESCRIPTION:Međunarodni forum posvećen Okviru iz Sendaija za smanjenje r
 izika od katastrofa za razdoblje 2015. – 2030.\, koji su države članic
 e UN-a donijele 2015.
LAST-MODIFIED:20250422T113423Z
LOCATION:Cancun\, Mexico
URL:https://climate-adapt.eea.europa.eu/hr/more-events/5th-global-platform
 -for-disaster-risk-reduction
END:VEVENT
END:VCALENDAR
