BEGIN:VCALENDAR
VERSION:2.0
PRODID:-//Plone.org//NONSGML plone.app.event//EN
X-WR-TIMEZONE:Europe/Helsinki
BEGIN:VEVENT
SUMMARY:Jesenska škola o upravljanju klimatskim rizicima
DTSTART;VALUE=DATE:20231011
DTEND;VALUE=DATE:20231019
DTSTAMP:20260419T212340Z
UID:78895131efc2483bb32abd7bb4d2dd67@climate-adapt.eea.europa.eu
CATEGORIES:event,climate,risk management
CONTACT:info@regilience.eu\, https://regilience.eu/regilience-university-o
 f-lisbon-are-inviting-you-to-apply-for-the-autumn-training-course-on-clima
 te-risk-management/
CREATED:20250422T113458Z
DESCRIPTION:Sveučilište u Lisabonu i projekt REGILIENCE financiran sreds
 tvima EU-a organiziraju jesensku školu na temu: „Upravljanje klimatskim
  rizicima – strategije i alati za regionalne i lokalne izazove”\, s na
 glaskom na klimatskim rizicima i otpornosti na klimatske promjene. Ovaj te
 čaj bit će usmjeren na javne stručnjake za klimatske rizike i prilagodb
 u na regionalnoj i lokalnoj razini\, kao i na druge zainteresirane stručn
 jake.
LAST-MODIFIED:20250422T113458Z
LOCATION:Lisbon\, Portugal
URL:https://climate-adapt.eea.europa.eu/hr/more-events/autumn-school-on-cl
 imate-risk-management
END:VEVENT
END:VCALENDAR
