BEGIN:VCALENDAR
VERSION:2.0
PRODID:-//Plone.org//NONSGML plone.app.event//EN
X-WR-TIMEZONE:Europe/Helsinki
BEGIN:VEVENT
SUMMARY:Podaci za djelovanje u području klime na Sredozemlju
DTSTART;VALUE=DATE:20211025
DTEND;VALUE=DATE:20211028
DTSTAMP:20260420T194819Z
UID:989442c0137b4d10964556b90fecfee0@varnish:6081
CATEGORIES:Climate data,Climate change datasets and tools,Mediterranean
CONTACT:https://climate.copernicus.eu/data-climate-action-mediterranean
CREATED:20250422T113653Z
DESCRIPTION:Usluge praćenja klimatskih promjena programa Copernicus i Uni
 ja za Mediteran 25. i 26. listopada bit će domaćini virtualne radionice 
 na kojoj će se predstaviti izazovi povezani s klimatskim promjenama na Sr
 edozemlju i način na koji se oni mogu prevladati boljim iskorištavanjem 
 klimatskih podataka.
LAST-MODIFIED:20250422T113653Z
LOCATION:Online
URL:https://climate-adapt.eea.europa.eu/hr/more-events/data-for-climate-ac
 tion-in-the-mediterranean
END:VEVENT
END:VCALENDAR
