BEGIN:VCALENDAR
VERSION:2.0
PRODID:-//Plone.org//NONSGML plone.app.event//EN
X-WR-TIMEZONE:Europe/Helsinki
BEGIN:VEVENT
SUMMARY:Europski dani oceana
DTSTART;VALUE=DATE:20260302
DTEND;VALUE=DATE:20260307
DTSTAMP:20260419T200300Z
UID:d742b1bc03c64486be69e66df5f65ac9@climate-adapt.eea.europa.eu
CATEGORIES:Event
CONTACT:https://maritime-forum.ec.europa.eu/theme/governance/european-ocea
 n-days_en
CREATED:20251216T225945Z
DESCRIPTION:Europski dani oceana jedno je tjedno događanje s nizom dinami
 čnih i međusobno povezanih sastanaka usmjerenih na ključne teme povezan
 e s oceanima\, uključujući prilagodbu klimatskim promjenama. Nadahnuto E
 uropskim paktom o oceanima\, treće izdanje događanja okupit će čelnike
  industrije\, start-up poduzeća\, ulagače\, oblikovatelje politika\, zna
 nstvenike\, MSP-ove\, predstavnike ribarstva i akvakulture\, otoka i obaln
 ih zajednica\, zajednice Misije za oceane i vode te civilno društvo\, ukl
 jučujući glasove mladih.
LAST-MODIFIED:20260105T145006Z
LOCATION:Brussels\, Belgium
URL:https://climate-adapt.eea.europa.eu/hr/more-events/european-ocean-days
END:VEVENT
END:VCALENDAR
