BEGIN:VCALENDAR
VERSION:2.0
PRODID:-//Plone.org//NONSGML plone.app.event//EN
X-WR-TIMEZONE:Europe/Helsinki
BEGIN:VEVENT
SUMMARY:LIFE Info Dani
DTSTART;TZID=Europe/Helsinki:20260428T100000
DTEND;TZID=Europe/Helsinki:20260430T133000
DTSTAMP:20260424T021929Z
UID:40ad8afcec764515ae04e71de7a9033e@climate-adapt.eea.europa.eu
CONTACT:https://cinea.ec.europa.eu/news-events/news/getting-ready-life-cal
 ls-proposals-2026-save-dates-2026-02-12_en
CREATED:20260422T170432Z
DESCRIPTION:Nakon objave poziva na podnošenje prijedloga u okviru program
 a LIFE za 2026. 21. travnja Europska izvršna agencija za klimu\, infrastr
 ukturu i okoliš (CINEA) organizirat će niz informativnih dana na interne
 tu radi usmjeravanja potencijalnih podnositelja zahtjeva. Namjenski inform
 ativni sastanci pružit će uvid u prioritetne teme za 2026. i dati savjet
 e o tome kako pripremiti dobar projektni prijedlog. Prilagodba klimatskim 
 promjenama jedno je od ključnih područja u pozivu na podnošenje prijedl
 oga\, a sjednica relevantna za prilagodbu održat će se 2. dana informati
 vnih dana.
LAST-MODIFIED:20260422T170432Z
LOCATION:Online event
URL:https://climate-adapt.eea.europa.eu/hr/more-events/life-info-days
END:VEVENT
BEGIN:VTIMEZONE
TZID:Europe/Helsinki
X-LIC-LOCATION:Europe/Helsinki
BEGIN:DAYLIGHT
DTSTART:20260329T040000
TZNAME:EEST
TZOFFSETFROM:+0200
TZOFFSETTO:+0300
END:DAYLIGHT
END:VTIMEZONE
END:VCALENDAR
