BEGIN:VCALENDAR
VERSION:2.0
PRODID:-//Plone.org//NONSGML plone.app.event//EN
X-WR-TIMEZONE:Europe/Helsinki
BEGIN:VEVENT
SUMMARY:Pathways2Resilience Summit 2026
DTSTART;VALUE=DATE:20260210
DTEND;VALUE=DATE:20260213
DTSTAMP:20260425T234558Z
UID:ce0e372f46e5407890ab4f74a6c02737@climate-adapt.eea.europa.eu
CATEGORIES:Summit
CONTACT:https://www.pathways2resilience.eu/news-P2R-Summit-2026
CREATED:20260129T183743Z
DESCRIPTION:Na sastanku na vrhu Pathways2Resilience okupit će se stotine 
 europskih regionalnih vlada\, gradonačelnici\, čelnici EU-a i stručnjac
 i za prilagodbu klimatskim promjenama. Zajedno će proslaviti postignuća 
 više od 100 europskih regija u planiranju njihova transformativnog puta p
 rilagodbe pomoću programa Pathways2Resilience\, jednog od vodećih progra
 ma u okviru misije EU-a za prilagodbu klimatskim promjenama.
LAST-MODIFIED:20260129T183743Z
LOCATION:Budapest\, Hungary
URL:https://climate-adapt.eea.europa.eu/hr/more-events/pathways2resilience
 -summit-2026
END:VEVENT
END:VCALENDAR
