BEGIN:VCALENDAR
VERSION:2.0
PRODID:-//Plone.org//NONSGML plone.app.event//EN
X-WR-TIMEZONE:Europe/Helsinki
BEGIN:VEVENT
SUMMARY:Događanje "Bolji gradovi" u urbanoj budućnosti
DTSTART;VALUE=DATE:20260324
DTEND;VALUE=DATE:20260328
DTSTAMP:20260420T012627Z
UID:fee1f720801e4b4da0285508c75f6682@climate-adapt.eea.europa.eu
CATEGORIES:Cities,Event
CONTACT:https://urban-future.org/event/uf26-ljubljana/
CREATED:20260120T092411Z
DESCRIPTION:U organizaciji Austrijske urbane budućnosti (UFGC GmbH)\, gra
 dski čelnici i tvorci promjena sastaju se u Ljubljani kako bi unaprijedil
 i gradove. Prilagodba klimatskim promjenama uglavnom je obuhvaćena planom
  br. 4\, otpornim društvima. Urban Future podupire pokret „odozdo prema
  gore” u Europi s globalnom zajednicom od 50 000 tvoraca urbanih promjen
 a.
LAST-MODIFIED:20260120T092502Z
LOCATION:Ljubljana\, Slovenia
URL:https://climate-adapt.eea.europa.eu/hr/more-events/the-uf-better-citie
 s-event
END:VEVENT
END:VCALENDAR
