BEGIN:VCALENDAR
VERSION:2.0
PRODID:-//Plone.org//NONSGML plone.app.event//EN
X-WR-TIMEZONE:Europe/Helsinki
BEGIN:VEVENT
SUMMARY:Treći svjetski sastanak na vrhu o klimatskim promjenama i globaln
 om zagrijavanju 2019.
DTSTART;TZID=Europe/Helsinki:20190227T100000
DTEND;TZID=Europe/Helsinki:20190228T180000
DTSTAMP:20260420T065605Z
UID:f159628297934064b46e83c6713230be@varnish:6081
CATEGORIES:event
CONTACT:https://climate.euroscicon.com/
CREATED:20250422T114218Z
DESCRIPTION:Tema ove 3. konferencije "EuroSciCon" je "Analiza novih horizo
 nata i održivih tehnologija za suočavanje s klimatskim promjenama i glob
 alnim zagrijavanjem".
LAST-MODIFIED:20250422T114218Z
LOCATION:Prague\, Czech Republic
URL:https://climate-adapt.eea.europa.eu/hr/more-events/third-world-summit-
 on-climate-change-and-global-warming
END:VEVENT
BEGIN:VTIMEZONE
TZID:Europe/Helsinki
X-LIC-LOCATION:Europe/Helsinki
BEGIN:STANDARD
DTSTART:20181028T030000
TZNAME:EET
TZOFFSETFROM:+0300
TZOFFSETTO:+0200
END:STANDARD
END:VTIMEZONE
END:VCALENDAR
