BEGIN:VCALENDAR
VERSION:2.0
PRODID:-//Plone.org//NONSGML plone.app.event//EN
X-WR-TIMEZONE:Europe/Helsinki
BEGIN:VEVENT
SUMMARY:Globalna konferencija o budućnosti gradova
DTSTART;VALUE=DATE:20141118
DTEND;VALUE=DATE:20141120
DTSTAMP:20260419T195741Z
UID:039e170f7bd04e7e9811ae956594031a@localhost:8001
CONTACT:http://www.urban-future.at/en
CREATED:20250422T114230Z
LAST-MODIFIED:20250422T114231Z
LOCATION:Graz\, Austria
URL:https://climate-adapt.eea.europa.eu/hr/more-events/urban-future-global
 -conference
END:VEVENT
END:VCALENDAR
