BEGIN:VCALENDAR
VERSION:2.0
PRODID:-//Plone.org//NONSGML plone.app.event//EN
X-WR-TIMEZONE:Europe/Helsinki
BEGIN:VEVENT
SUMMARY:Az óceán évtizedének 2024. évi konferenciája
DTSTART;VALUE=DATE:20240410
DTEND;VALUE=DATE:20240414
DTSTAMP:20260421T160658Z
UID:742153a0e76c40df98bdecdcef045fd5@climate-adapt.eea.europa.eu
CATEGORIES:event,Coastal areas and oceans
CONTACT:https://oceandecade.org/events/2024-ocean-decade-conference/
CREATED:20250418T073654Z
DESCRIPTION:Ez a globális konferencia összehozza az óceán évtizede k
 özösséget\, amelyet a fenntartható fejlődést szolgáló óceántudom
 ány ENSZ-évtizede (2021–2030) hozott létre\, valamint a partnereket\,
  hogy megvitassák és megünnepeljék az eredményeket\, és közös prio
 ritásokat határozzanak meg az évtized jövőjére vonatkozóan. A konfe
 rencián több tucat műholdas rendezvényre kerül sor\, amelyek olyan kr
 itikus kérdésekkel foglalkoznak\, mint az éghajlatváltozáshoz való a
 lkalmazkodás\, a biológiai sokféleség fenntartható kezelése és a te
 rmészeti veszélyek.
LAST-MODIFIED:20250418T073654Z
LOCATION:Barcelona\, Spain
URL:https://climate-adapt.eea.europa.eu/hu/more-events/2024-ocean-decade-c
 onference
END:VEVENT
END:VCALENDAR
