BEGIN:VCALENDAR
VERSION:2.0
PRODID:-//Plone.org//NONSGML plone.app.event//EN
X-WR-TIMEZONE:Europe/Helsinki
BEGIN:VEVENT
SUMMARY:A Kopernikusz Éghajlatváltozási Szolgálatának közgyűlése 
 – 2023. évi kiadás
DTSTART;TZID=Europe/Helsinki:20230912T100000
DTEND;TZID=Europe/Helsinki:20230914T133000
DTSTAMP:20260420T012526Z
UID:85564983417345f99d492a82a9e37040@climate-adapt.eea.europa.eu
CATEGORIES:meeting
CONTACT:https://climate.copernicus.eu/6th-c3s-general-assembly
CREATED:20250418T073729Z
DESCRIPTION:A Kopernikusz éghajlat-változási szolgáltatása (C3S) hite
 les információkkal szolgál az európai alkalmazkodási politikákat tá
 mogató múltról\, jelenről és jövőről. A szolgálat megtartja 6. k
 özgyűlését\, hogy reflektáljon a múltbeli eredményekre\, és együt
 t alakítsa a szolgálat jövőjét. Az idei közgyűlés az adatok lefede
 ttségére és az infrastruktúrára\, a felhasználók bevonására és a
  kommunikációs tevékenységekre összpontosít\, valamint otthont ad az
  új Kopernikusz energiaközpont elindításának\, amely egyablakos ügyi
 ntézési pontként szolgál az energiaágazatot a változó éghajlat kö
 zepette támogató termékek és információk számára.
LAST-MODIFIED:20250418T073730Z
LOCATION:Brno\, Czechia
URL:https://climate-adapt.eea.europa.eu/hu/more-events/6th-c3s-general-ass
 embly
END:VEVENT
BEGIN:VTIMEZONE
TZID:Europe/Helsinki
X-LIC-LOCATION:Europe/Helsinki
BEGIN:DAYLIGHT
DTSTART:20230326T040000
TZNAME:EEST
TZOFFSETFROM:+0200
TZOFFSETTO:+0300
END:DAYLIGHT
END:VTIMEZONE
END:VCALENDAR
