BEGIN:VCALENDAR
VERSION:2.0
PRODID:-//Plone.org//NONSGML plone.app.event//EN
X-WR-TIMEZONE:Europe/Helsinki
BEGIN:VEVENT
SUMMARY:VáltozásNOW 2026
DTSTART;VALUE=DATE:20260330
DTEND;VALUE=DATE:20260402
DTSTAMP:20260419T231410Z
UID:d2857c8a87164a388c0dd7b70d2d6bf5@climate-adapt.eea.europa.eu
CATEGORIES:Conference
CONTACT:https://www.changenow.world/join-changenow-2026/
CREATED:20260302T180312Z
DESCRIPTION:A ChangeNOW konferencia évszázadunk legfontosabb kérdéseir
 e és a fenntartható világ felépítéséhez szükséges konkrét intéz
 kedésekre összpontosít\, beleértve az éghajlatváltozáshoz való alk
 almazkodást is. A rendezvényen 40 000 résztvevő\, köztük 10 000 vál
 lalat és 1200 befektető\, valamint városok\, szakpolitikai vezetők\, t
 udósok és a civil társadalom képviselői\, valamint vezető hangok ves
 znek részt.
LAST-MODIFIED:20260302T180312Z
LOCATION:Paris\, France
URL:https://climate-adapt.eea.europa.eu/hu/more-events/changenow-2026
END:VEVENT
END:VCALENDAR
