BEGIN:VCALENDAR
VERSION:2.0
PRODID:-//Plone.org//NONSGML plone.app.event//EN
X-WR-TIMEZONE:Europe/Helsinki
BEGIN:VEVENT
SUMMARY:Adatok a földközi-tengeri térségben folytatott éghajlat-polit
 ikai fellépéshez
DTSTART;VALUE=DATE:20211025
DTEND;VALUE=DATE:20211028
DTSTAMP:20260424T172525Z
UID:989442c0137b4d10964556b90fecfee0@varnish:6081
CATEGORIES:Climate data,Climate change datasets and tools,Mediterranean
CONTACT:https://climate.copernicus.eu/data-climate-action-mediterranean
CREATED:20250418T074006Z
DESCRIPTION:Október 25-én és 26-án a Kopernikusz éghajlat-változási
  szolgáltatása és az Unió a Mediterrán Térségért virtuális munka
 értekezletet tart\, hogy bemutassa a földközi-tengeri térségben az é
 ghajlatváltozással kapcsolatos kihívásokat\, valamint azt\, hogy ezeke
 t hogyan lehet leküzdeni az éghajlati adatok jobb kihasználásával.
LAST-MODIFIED:20250418T074006Z
LOCATION:Online
URL:https://climate-adapt.eea.europa.eu/hu/more-events/data-for-climate-ac
 tion-in-the-mediterranean
END:VEVENT
END:VCALENDAR
