BEGIN:VCALENDAR
VERSION:2.0
PRODID:-//Plone.org//NONSGML plone.app.event//EN
X-WR-TIMEZONE:Europe/Helsinki
BEGIN:VEVENT
SUMMARY:Webinárium a Climate-ADAPT Urban eszközökről
DTSTART;TZID=Europe/Helsinki:20191023T120000
DTEND;TZID=Europe/Helsinki:20191023T130000
DTSTAMP:20260420T060924Z
UID:fbe6fb75db5a448d8eabf8a091ee880b@varnish:6081
CREATED:20250418T074734Z
DESCRIPTION:Az éghajlatváltozáshoz való alkalmazkodás európai platfo
 rmja (Climate-ADAPT) hatodik webináriumának célja\, hogy felhívja a fi
 gyelmet a Climate-ADAPT városi tudáselemeire és eszközeire\, és előm
 ozdítsa azok használatát\, például a helyi tervezés\, a figyelemfelk
 eltés\, a részvételi folyamatok és a projekttervezés terén.
LAST-MODIFIED:20250418T074734Z
LOCATION:webinar
URL:https://climate-adapt.eea.europa.eu/hu/more-events/webinar-on-climate-
 adapt-urban-tools
END:VEVENT
BEGIN:VTIMEZONE
TZID:Europe/Helsinki
X-LIC-LOCATION:Europe/Helsinki
BEGIN:DAYLIGHT
DTSTART:20190331T040000
TZNAME:EEST
TZOFFSETFROM:+0200
TZOFFSETTO:+0300
END:DAYLIGHT
END:VTIMEZONE
END:VCALENDAR
