BEGIN:VCALENDAR
VERSION:2.0
PRODID:-//Plone.org//NONSGML plone.app.event//EN
X-WR-TIMEZONE:Europe/Helsinki
BEGIN:VEVENT
SUMMARY:Framkvæmdaáætlun fyrir borgara og borgara #8
DTSTART;TZID=Europe/Helsinki:20241210T143000
DTEND;TZID=Europe/Helsinki:20241210T163000
DTSTAMP:20260421T021421Z
UID:df44c092f1dc471ab2279fee2c6b5b7b@climate-adapt.eea.europa.eu
CREATED:20250411T015057Z
DESCRIPTION:10. desember 2024
LAST-MODIFIED:20250411T015057Z
URL:https://climate-adapt.eea.europa.eu/is/mission/events/save-the-date-st
 akeholder-and-citizen-engagement-programme-8
END:VEVENT
BEGIN:VTIMEZONE
TZID:Europe/Helsinki
X-LIC-LOCATION:Europe/Helsinki
BEGIN:STANDARD
DTSTART:20241027T030000
TZNAME:EET
TZOFFSETFROM:+0300
TZOFFSETTO:+0200
END:STANDARD
END:VTIMEZONE
END:VCALENDAR
