BEGIN:VCALENDAR
VERSION:2.0
PRODID:-//Plone.org//NONSGML plone.app.event//EN
X-WR-TIMEZONE:Europe/Helsinki
BEGIN:VEVENT
SUMMARY:Aðlögun Futures 2020 (COVID-19 uppfærsla -> frestað)
DTSTART;VALUE=DATE:20200427
DTEND;VALUE=DATE:20200502
DTSTAMP:20260419T193852Z
UID:a58e813494a246448c22c33f327d3a94@varnish:6081
CATEGORIES:event
CONTACT:http://adaptationfutures2020.in/
CREATED:20250411T032225Z
DESCRIPTION:Í 6. útgáfu alþjóðlegu ráðstefnunnar um aðlögun á h
 eimsvísu er gert ráð fyrir að stuðla að heildarþema "hraðari aðl
 ögunaraðgerða og þekkingar til að styðja við aðgerðir". Ráðstef
 nan leitast við að kanna þessa yfirgripsmikla þörf með mörgum þema
 tískum lögum.
LAST-MODIFIED:20250411T032225Z
LOCATION:New Delhi\, India
URL:https://climate-adapt.eea.europa.eu/is/more-events/adaptation-futures-
 2020
END:VEVENT
END:VCALENDAR
