BEGIN:VCALENDAR
VERSION:2.0
PRODID:-//Plone.org//NONSGML plone.app.event//EN
X-WR-TIMEZONE:Europe/Helsinki
BEGIN:VEVENT
SUMMARY:Copernicus Climate Change Service — User Learning Services: Þj
 álfa þjálfaranámskeiðið
DTSTART;TZID=Europe/Helsinki:20180917T100000
DTEND;TZID=Europe/Helsinki:20181130T180000
DTSTAMP:20260420T061001Z
UID:a98e80d1b1904563ad20477d433c793c@varnish:6081
CONTACT:https://climate.copernicus.eu/c3s-user-learning-services-train-tra
 iner-course
CREATED:20250411T032334Z
DESCRIPTION:Notendafræðsluþjónusta Kópernikusaráætlunarinnar (C3S) 
 býður upp á ókeypis þjálfunarviðburði og úrræði um hvernig á a
 ð nota Copernicus Climate Data Store (CDS) vettvanginn og efni hans til a
 ð styðja við mat þitt á áhrifum loftslagsbreytinga. Námskeiðin sam
 eina nám á netinu og augliti til auglitis í 30 löndum um alla Evrópu.
LAST-MODIFIED:20250411T032334Z
LOCATION:across Europe
URL:https://climate-adapt.eea.europa.eu/is/more-events/copernicus-climate-
 change-service-user-learning-services-train-the-trainer-course
END:VEVENT
BEGIN:VTIMEZONE
TZID:Europe/Helsinki
X-LIC-LOCATION:Europe/Helsinki
BEGIN:DAYLIGHT
DTSTART:20180325T040000
TZNAME:EEST
TZOFFSETFROM:+0200
TZOFFSETTO:+0300
END:DAYLIGHT
BEGIN:STANDARD
DTSTART:20181028T030000
TZNAME:EET
TZOFFSETFROM:+0300
TZOFFSETTO:+0200
END:STANDARD
END:VTIMEZONE
END:VCALENDAR
