BEGIN:VCALENDAR
VERSION:2.0
PRODID:-//Plone.org//NONSGML plone.app.event//EN
X-WR-TIMEZONE:Europe/Helsinki
BEGIN:VEVENT
SUMMARY:ESB Græn vika 2019
DTSTART;VALUE=DATE:20190513
DTEND;VALUE=DATE:20190519
DTSTAMP:20260421T194635Z
UID:15ba64fe6b9740f99320e819016e4824@varnish:6081
CATEGORIES:event
CONTACT:https://ec.europa.eu/info/events/eu-green-week-2019_en
CREATED:20250411T045143Z
DESCRIPTION:2019 útgáfa af ESB Green Week mun setja ferlið við framkv
 æmd umhverfismála í sviðsljósið. Það mun fela í sér viðburði u
 m alla Evrópu\, með opinberum opnunarviðburð þann 13. maí í einu a
 ðildarríkja ESB og háttsettum leiðtogafundi í Brussel frá 15 til 17 
 maí. Green Week verður lokað í lok ráðstefnunnar í Brussel og mun l
 eiða í ljós pólitískar niðurstöður vikunnar.
LAST-MODIFIED:20250411T045143Z
LOCATION:Location: across Europe
URL:https://climate-adapt.eea.europa.eu/is/more-events/eu-green-week-2019
END:VEVENT
END:VCALENDAR
