BEGIN:VCALENDAR
VERSION:2.0
PRODID:-//Plone.org//NONSGML plone.app.event//EN
X-WR-TIMEZONE:Europe/Helsinki
BEGIN:VEVENT
SUMMARY:Upplýsingadagar um lífið
DTSTART;VALUE=DATE:20250513
DTEND;VALUE=DATE:20250517
DTSTAMP:20260421T133132Z
UID:b569b8f1a1744aceb3f24912c37f1e1e@climate-adapt.eea.europa.eu
CATEGORIES:event,LIFE
CONTACT:https://vo-europe.swoogo.com/eu-life-info-days-2025/Home
CREATED:20250410T214834Z
DESCRIPTION:The 2025 ESB LIFE Info Days eru að sýna komandi Calls for Pr
 oposals\, þar á meðal undiráætlun Climate Change Mitigation og aðlö
 gun. LIFE-áætlunin tekur þátt í að fjármagna verkefni á sviði að
 lögunar þéttbýlis og skipulags landnotkunar\, álagsþols grunnvirkja\
 , sjálfbærrar stjórnunar vatns á þurrkasvæðum\, flóða- og strands
 tjórnun\, viðnámsþrótt í landbúnaði\, skógrækt og ferðaþjónus
 tu og/eða styðja við ystu svæði ESB: viðbúnað við öfgakenndra ve
 ðuratburða\, einkum á strandsvæðum. Það veitir aðgerðastyrki til 
 bestu starfsvenja\, tilraunaverkefna og tilraunaverkefna sem stuðla að 
 því að auka viðnámsþrótt gagnvart loftslagsbreytingum.
LAST-MODIFIED:20250410T214834Z
LOCATION:Online
URL:https://climate-adapt.eea.europa.eu/is/more-events/eu-life-info-days
END:VEVENT
END:VCALENDAR
