BEGIN:VCALENDAR
VERSION:2.0
PRODID:-//Plone.org//NONSGML plone.app.event//EN
X-WR-TIMEZONE:Europe/Helsinki
BEGIN:VEVENT
SUMMARY:MIP4Adapt gagnvirk webinar: Að virkja skilyrði fyrir náttúrumi
 ðaðar lausnir
DTSTART;TZID=Europe/Helsinki:20260326T110000
DTEND;TZID=Europe/Helsinki:20260326T123000
DTSTAMP:20260420T064440Z
UID:ba0d3bc370724c4a85debd543f70aab0@climate-adapt.eea.europa.eu
CATEGORIES:webinar,MIP4Adapt
CONTACT:https://futurium.ec.europa.eu/en/eu-mission-adaptation-community/e
 vents/making-nature-based-solutions-work-enabling-conditions-practice-even
 t-organised-mip4adapt
CREATED:20260302T180459Z
DESCRIPTION:Þessi netviðburður sem skipulagður er af MIP4Adapt sameina
 r svæðis- og staðaryfirvöld\, stefnumótendur og iðkendur til að kan
 na hvað gerir árangursríka framkvæmd náttúrumiðaðra lausna (NbS) u
 m alla Evrópu mögulega.  Þátttakendur munu kanna hvernig fjármögnun
 \, samsköpun og stjórnarhættir geta stutt við upptöku og stigstærð 
 NbS.
LAST-MODIFIED:20260302T180500Z
LOCATION:Online
URL:https://climate-adapt.eea.europa.eu/is/more-events/exchanging-knowledg
 e-enabling-conditions-for-nature-based-solutions
END:VEVENT
BEGIN:VTIMEZONE
TZID:Europe/Helsinki
X-LIC-LOCATION:Europe/Helsinki
BEGIN:STANDARD
DTSTART:20251026T030000
TZNAME:EET
TZOFFSETFROM:+0300
TZOFFSETTO:+0200
END:STANDARD
END:VTIMEZONE
END:VCALENDAR
