BEGIN:VCALENDAR
VERSION:2.0
PRODID:-//Plone.org//NONSGML plone.app.event//EN
X-WR-TIMEZONE:Europe/Helsinki
BEGIN:VEVENT
SUMMARY:Fyrsta leiðtogafundur Evrópu um loftslagsbreytingar
DTSTART;VALUE=DATE:20210323
DTEND;VALUE=DATE:20210325
DTSTAMP:20260420T191255Z
UID:9c7ddd8655854191ab411fcdfe36db04@varnish:6081
CATEGORIES:event,climateservice
CONTACT:https://soclimpact.net/first-european-island-summit-on-climate-cha
 nge-23rd-march-2021/
CREATED:20250411T045214Z
DESCRIPTION:SOCLIMPACT verkefnið skipuleggur opna umræðu á netinu mill
 i fræðimanna\, fulltrúa tólf ESB eyja og ystu svæða og nefndarmanna 
 framkvæmdastjórnar Evrópusambandsins með það að markmiði að grein
 a leiðir til aðlögunar sem byggja upp seigari eyjaklasa. Meginviðfangs
 efni er Regional Exchange Information System og Adaptation Support Tool fo
 r Island\, loftslagsþjónusta þróað af þessu verkefni.
LAST-MODIFIED:20250411T045214Z
LOCATION:Online
URL:https://climate-adapt.eea.europa.eu/is/more-events/first-european-isla
 nds-summit-on-climate-change
END:VEVENT
END:VCALENDAR
