BEGIN:VCALENDAR
VERSION:2.0
PRODID:-//Plone.org//NONSGML plone.app.event//EN
X-WR-TIMEZONE:Europe/Helsinki
BEGIN:VEVENT
SUMMARY:ICLEI World Congress hleypt af stokkunum
DTSTART;VALUE=DATE:20210412
DTEND;VALUE=DATE:20210417
DTSTAMP:20260419T141843Z
UID:13e085f06d10403da218b5ab96a09288@varnish:6081
CATEGORIES:event
CONTACT:https://worldcongress.iclei.org/updates/day-1/
CREATED:20250411T045232Z
DESCRIPTION:Þessi stafræni kynningarviðburður mun samanstanda af háu 
 stigi\, upplýsandi og hnattrænum umræðum um framlag borga\, bæja og s
 væða til sjálfbærrar framtíðar\, ásamt árlegri reynslu til að kom
 a saman staðar- og svæðisstjórnum ICLEI-netsins þrátt fyrir heimsfar
 aldurinn. Loftslagsbreytingar verða fyrst og fremst ræddar á síðasta 
 degi þessarar kynningarviðburðar.
LAST-MODIFIED:20250411T045233Z
LOCATION:Online
URL:https://climate-adapt.eea.europa.eu/is/more-events/iclei-world-congres
 s-launch
END:VEVENT
END:VCALENDAR
