BEGIN:VCALENDAR
VERSION:2.0
PRODID:-//Plone.org//NONSGML plone.app.event//EN
X-WR-TIMEZONE:Europe/Helsinki
BEGIN:VEVENT
SUMMARY:ICP Forests Scientific Conference (COVID-19 uppfærsla)
DTSTART;VALUE=DATE:20200608
DTEND;VALUE=DATE:20200612
DTSTAMP:20260420T045530Z
UID:f4dd9e56ff254ff4a1f0e3114a02b939@varnish:6081
CATEGORIES:event
CONTACT:https://sc2020.thuenen.de/
CREATED:20250411T045241Z
DESCRIPTION:Í 9. tölublaði þessarar ráðstefnu verður lögð áhersl
 a á umfangsmikla gagnaröð skóga fyrir skóga um vöxt skóga\, fenfræ
 ði\, líffræðilega fjölbreytni\, næringarástand laufs og rusls\, gæ
 ði andrúmslofts\, ákomu\, veðurfræði\, jarðveg og kórónuástand. 
 Nýjustu niðurstöður og niðurstöður úr staðbundnum mælikvarða ti
 l evrópskra rannsókna verða kynntar og ræddar.
LAST-MODIFIED:20250411T045241Z
LOCATION:Birmensdorf\, Switzerland
URL:https://climate-adapt.eea.europa.eu/is/more-events/icp-forests-scienti
 fic-conference
END:VEVENT
END:VCALENDAR
