BEGIN:VCALENDAR
VERSION:2.0
PRODID:-//Plone.org//NONSGML plone.app.event//EN
X-WR-TIMEZONE:Europe/Helsinki
BEGIN:VEVENT
SUMMARY:LifeCoolCity ráðstefna
DTSTART;TZID=Europe/Helsinki:20240610T170000
DTEND;TZID=Europe/Helsinki:20240618T190000
DTSTAMP:20260420T104124Z
UID:12bb9be3e221464ca7afb8c7a9f73f76@climate-adapt.eea.europa.eu
CATEGORIES:event,conference
CONTACT:https://www.mggpaero.com/en/lifecoolcity.html
CREATED:20250411T045319Z
DESCRIPTION:Hvernig styður náttúran borgir í baráttunni gegn loftslag
 sbreytingum? Samstarfsverkefnið LifeCoolCity Í verkefninu LifeCoolCity m
 un ræða hvernig á að styrkja þróun blágrænna innviða hvað varða
 r fimm þætti sem byggja upp aðlögunarmöguleika borgarinnar: þétting
  lands\, hita eyja í þéttbýli\, ástand blára innviða\, ástand græ
 nna innviða og ástand líffræðilegrar fjölbreytni. Ráðstefnan á ne
 tinu verður á pólsku með ensku þýðingu.
LAST-MODIFIED:20250411T045319Z
LOCATION:Online
URL:https://climate-adapt.eea.europa.eu/is/more-events/lifecoolcity-confer
 ence
END:VEVENT
BEGIN:VTIMEZONE
TZID:Europe/Helsinki
X-LIC-LOCATION:Europe/Helsinki
BEGIN:DAYLIGHT
DTSTART:20240331T040000
TZNAME:EEST
TZOFFSETFROM:+0200
TZOFFSETTO:+0300
END:DAYLIGHT
END:VTIMEZONE
END:VCALENDAR
