BEGIN:VCALENDAR
VERSION:2.0
PRODID:-//Plone.org//NONSGML plone.app.event//EN
X-WR-TIMEZONE:Europe/Helsinki
BEGIN:VEVENT
SUMMARY:Urban Future "Betri borgir" atburður
DTSTART;VALUE=DATE:20260324
DTEND;VALUE=DATE:20260328
DTSTAMP:20260419T205003Z
UID:4b719e4aca7341e290aefd62a6e2c647@climate-adapt.eea.europa.eu
CATEGORIES:Cities,Event
CONTACT:https://urban-future.org/event/uf26-ljubljana/
CREATED:20260120T092458Z
DESCRIPTION:Skipulögð af austurríska Urban Future (UFGC GmbH)\, borg le
 iðtogar og changemakers hittast í Ljubljana til að færa betri borgir 
 áfram. Aðlögun að loftslagsbreytingum er að mestu leyti fjallað um 
 í lag 4\, seigur samfélög. Urban Future styður botn-upp hreyfingu í E
 vrópu með alþjóðlegu samfélagi 50\,000 þéttbýli breyting-aðilar.
LAST-MODIFIED:20260120T092502Z
LOCATION:Ljubljana\, Slovenia
URL:https://climate-adapt.eea.europa.eu/is/more-events/the-uf-better-citie
 s-event
END:VEVENT
END:VCALENDAR
