BEGIN:VCALENDAR
VERSION:2.0
PRODID:-//Plone.org//NONSGML plone.app.event//EN
X-WR-TIMEZONE:Europe/Helsinki
BEGIN:VEVENT
SUMMARY:Webstival um eflingu fjármálanýjunga fyrir náttúrumiðaðar l
 ausnir
DTSTART;VALUE=DATE:20250211
DTEND;VALUE=DATE:20250215
DTSTAMP:20260422T044615Z
UID:01cfbf891e3840949e89ca009168afc3@climate-adapt.eea.europa.eu
CATEGORIES:naturebasedsolutions
CONTACT:info@naturanceproject.eu\, https://www.naturanceproject.eu/events/
 webstival-2025/
CREATED:20250411T045612Z
DESCRIPTION:Önnur stafræn hátíð Naturance verkefnisins verður haldin
  11.-13. febrúar 2025. Skráning og boð eftir framlagi eru opin!
LAST-MODIFIED:20250411T045612Z
LOCATION:online
URL:https://climate-adapt.eea.europa.eu/is/more-events/webstival-on-advanc
 ing-finance-innovations-for-nature-based-solutions
END:VEVENT
END:VCALENDAR
