BEGIN:VCALENDAR
VERSION:2.0
PRODID:-//Plone.org//NONSGML plone.app.event//EN
X-WR-TIMEZONE:Europe/Helsinki
BEGIN:VEVENT
SUMMARY:Accademia dell'UE per l'azione per il clima: Primo webinar
DTSTART;TZID=Europe/Helsinki:20241001T143000
DTEND;TZID=Europe/Helsinki:20241001T160000
DTSTAMP:20260421T103804Z
UID:5d7cef82e1cf4bf6b594132e32870524@climate-adapt.eea.europa.eu
CREATED:20241104T162301Z
DESCRIPTION:ottobre 2024
LAST-MODIFIED:20241219T083047Z
URL:https://climate-adapt.eea.europa.eu/it/mission/events/eu-climate-actio
 n-academy-first-webinar
END:VEVENT
BEGIN:VTIMEZONE
TZID:Europe/Helsinki
X-LIC-LOCATION:Europe/Helsinki
BEGIN:DAYLIGHT
DTSTART:20240331T040000
TZNAME:EEST
TZOFFSETFROM:+0200
TZOFFSETTO:+0300
END:DAYLIGHT
END:VTIMEZONE
END:VCALENDAR
