BEGIN:VCALENDAR
VERSION:2.0
PRODID:-//Plone.org//NONSGML plone.app.event//EN
X-WR-TIMEZONE:Europe/Helsinki
BEGIN:VEVENT
SUMMARY:Terzo simposio mondiale sui cambiamenti climatici (aggiornamento C
 OVID-19 — > annullato)
DTSTART;TZID=Europe/Helsinki:20200706T010000
DTEND;TZID=Europe/Helsinki:20200708T005959
DTSTAMP:20260419T195746Z
UID:ae7039dde0af47e69e7e43424adda6f6@climate-adapt.eea.europa.eu
CONTACT:https://www.haw-hamburg.de/en/ftz-nk/events/communication2020.html
CREATED:20220910T225812Z
DESCRIPTION:La complessità dei cambiamenti climatici rende urgentemente n
 ecessari approcci\, metodi e strumenti adeguati per comunicare il problema
 . Il simposio sarà un evento interdisciplinare che mobiliterà studiosi\,
  movimenti sociali\, professionisti e membri di agenzie governative\, avvi
 ando ricerche e/o realizzando progetti di comunicazione sui cambiamenti cl
 imatici in tutto il mondo.
LAST-MODIFIED:20221005T192719Z
LOCATION:Warsaw\, Poland
URL:https://climate-adapt.eea.europa.eu/it/more-events/3rd-world-symposium
 -on-climate-change-communication
END:VEVENT
BEGIN:VTIMEZONE
TZID:Europe/Helsinki
X-LIC-LOCATION:Europe/Helsinki
BEGIN:DAYLIGHT
DTSTART:20200329T040000
TZNAME:EEST
TZOFFSETFROM:+0200
TZOFFSETTO:+0300
END:DAYLIGHT
END:VTIMEZONE
END:VCALENDAR
