BEGIN:VCALENDAR
VERSION:2.0
PRODID:-//Plone.org//NONSGML plone.app.event//EN
X-WR-TIMEZONE:Europe/Helsinki
BEGIN:VEVENT
SUMMARY:5ª piattaforma globale per la riduzione del rischio di catastrofi
DTSTART;TZID=Europe/Helsinki:20170522T030000
DTEND;TZID=Europe/Helsinki:20170527T025959
DTSTAMP:20260419T141631Z
UID:82e7a39bc4d843a5a416be5528afa504@climate-adapt.eea.europa.eu
CONTACT:http://www.unisdr.org/conferences/2017/globalplatform
CREATED:20220910T225727Z
DESCRIPTION:Forum internazionale dedicato al quadro di Sendai per la riduz
 ione del rischio di catastrofi 2015-2030\, adottato dagli Stati membri del
 le Nazioni Unite nel 2015.
LAST-MODIFIED:20221005T192702Z
LOCATION:Cancun\, Mexico
URL:https://climate-adapt.eea.europa.eu/it/more-events/5th-global-platform
 -for-disaster-risk-reduction
END:VEVENT
BEGIN:VTIMEZONE
TZID:Europe/Helsinki
X-LIC-LOCATION:Europe/Helsinki
BEGIN:DAYLIGHT
DTSTART:20170326T040000
TZNAME:EEST
TZOFFSETFROM:+0200
TZOFFSETTO:+0300
END:DAYLIGHT
END:VTIMEZONE
END:VCALENDAR
