BEGIN:VCALENDAR
VERSION:2.0
PRODID:-//Plone.org//NONSGML plone.app.event//EN
X-WR-TIMEZONE:Europe/Helsinki
BEGIN:VEVENT
SUMMARY:Seminario annuale del 6º seminario annuale del Centro di conoscen
 ze sulla gestione dei rischi di catastrofi
DTSTART;TZID=Europe/Helsinki:20221122T140000
DTEND;TZID=Europe/Helsinki:20221123T170000
DTSTAMP:20260419T195744Z
UID:14957e0b32f84b8cb8f58696a29aac36@varnish: 6081
CONTACT:ec-drmkc-annual-seminar@ec.europa.eu\, https://drmkc.jrc.ec.europa
 .eu/events-news/drmkc-annual-seminars/6th-drmkc-annual-seminar
CREATED:20221012T063336Z
DESCRIPTION:Questo evento di 2 giorni del DRMKC mira a condividere i risul
 tati conseguiti dal pilastro scientifico della rete unionale della conosce
 nza in materia di protezione civile (UCPKN) nell'affrontare sfide quali\, 
 tra l'altro\, eventi composti\, concomitanti e a cascata che devono essere
  inclusi nell'analisi dei rischi o le sfide in materia di comunicazione ne
 lla gestione del rischio. Un evento ibrido è ospitato congiuntamente con 
 il ministero dell'Interno francese e organizzato congiuntamente con la DG 
 ECHO a Parigi.
LAST-MODIFIED:20221122T193409Z
LOCATION:Parigi\, Francia/ibrido
URL:https://climate-adapt.eea.europa.eu/it/more-events/6th-drmkc-annual-se
 minar-1
END:VEVENT
BEGIN:VTIMEZONE
TZID:Europe/Helsinki
X-LIC-LOCATION:Europe/Helsinki
BEGIN:STANDARD
DTSTART:20221030T030000
TZNAME:EET
TZOFFSETFROM:+0300
TZOFFSETTO:+0200
END:STANDARD
END:VTIMEZONE
END:VCALENDAR
