BEGIN:VCALENDAR
VERSION:2.0
PRODID:-//Plone.org//NONSGML plone.app.event//EN
X-WR-TIMEZONE:Europe/Helsinki
BEGIN:VEVENT
SUMMARY:Conferenza sul futuro dell'adattamento 2023
DTSTART;TZID=Europe/Helsinki:20231002T010000
DTEND;TZID=Europe/Helsinki:20231007T005959
DTSTAMP:20260420T041746Z
UID:0959d0c8f06f4e1683aca72a3737b870@varnish: 6081
CONTACT:https://adaptationfutures.com/
CREATED:20221014T063927Z
DESCRIPTION:La serie di conferenze sul futuro dell'adattamento è la prima
  conferenza internazionale dedicata interamente all'adattamento ai cambiam
 enti climatici. Questa conferenza biennale è l'evento faro del World Adap
 tation Science Programme (WASP)\, una delle quattro componenti del program
 ma mondiale per il clima. Nell'ottobre 2023 Ouranos\, il governo del Canad
 a e il WASP ospiteranno la 7a edizione dei future per l'adattamento (AF202
 3). Il centro principale della conferenza sarà situato nel Palais des con
 grès de Montréal\, Québec\, Canada. L'invito a partecipare alle session
 i sarà aperto all'inizio di ottobre 2022. Potrebbe esservi una sezione de
 dicata alle azioni europee di adattamento ai cambiamenti climatici e ai pr
 ogetti di ricerca.
LAST-MODIFIED:20221122T183709Z
LOCATION:Montréal\, Canada/Hybrid
URL:https://climate-adapt.eea.europa.eu/it/more-events/adaptation-futures-
 2023-conference
END:VEVENT
BEGIN:VTIMEZONE
TZID:Europe/Helsinki
X-LIC-LOCATION:Europe/Helsinki
BEGIN:DAYLIGHT
DTSTART:20230326T040000
TZNAME:EEST
TZOFFSETFROM:+0200
TZOFFSETTO:+0300
END:DAYLIGHT
END:VTIMEZONE
END:VCALENDAR
