BEGIN:VCALENDAR
VERSION:2.0
PRODID:-//Plone.org//NONSGML plone.app.event//EN
X-WR-TIMEZONE:Europe/Helsinki
BEGIN:VEVENT
SUMMARY:Guida blu alla resilienza costiera: lancio in un webinar
DTSTART;TZID=Europe/Helsinki:20210202T160000
DTEND;TZID=Europe/Helsinki:20210202T170000
DTSTAMP:20260421T001120Z
UID:073d50cb7faa4cb9ab9ac6da25382f64@climate-adapt.eea.europa.eu
CONTACT:https://register.gotowebinar.com/register/7788263484258522382
CREATED:20220910T225823Z
DESCRIPTION:La Conservazione della natura (CNT)\, il PEDRR e gli amici del
 l'adattamento basato sull'ecosistema (FEBA) ospitano congiuntamente un web
 inar per lanciare la Guida blu alla resilienza costiera in onore della Gio
 rnata mondiale delle zone umide. La presente guida offre orientamenti pass
 o per passo su come integrare le soluzioni basate sulla natura (NbS) nella
  pianificazione della riduzione del rischio di catastrofi.
LAST-MODIFIED:20221005T192725Z
LOCATION:Webinar
URL:https://climate-adapt.eea.europa.eu/it/more-events/blue-guide-to-coast
 al-resilience-launch-in-a-webinar
END:VEVENT
BEGIN:VTIMEZONE
TZID:Europe/Helsinki
X-LIC-LOCATION:Europe/Helsinki
BEGIN:STANDARD
DTSTART:20201025T030000
TZNAME:EET
TZOFFSETFROM:+0300
TZOFFSETTO:+0200
END:STANDARD
END:VTIMEZONE
END:VCALENDAR
