BEGIN:VCALENDAR
VERSION:2.0
PRODID:-//Plone.org//NONSGML plone.app.event//EN
X-WR-TIMEZONE:Europe/Helsinki
BEGIN:VEVENT
SUMMARY:Seminario sul clima Science2Policy
DTSTART;TZID=Europe/Helsinki:20201117T010000
DTEND;TZID=Europe/Helsinki:20201119T005959
DTSTAMP:20260419T211424Z
UID:468d343b966a4ef7bbbee93412bd1254@climate-adapt.eea.europa.eu
CONTACT:https://ec.europa.eu/easme/en/section/environment/climate-science2
 policy-workshop
CREATED:20220910T225826Z
DESCRIPTION:Questo seminario "Scienza e politica" garantirà la collaboraz
 ione tra la comunità scientifica e i responsabili politici sugli sforzi e
 uropei di mitigazione e adattamento ai cambiamenti climatici.
LAST-MODIFIED:20221005T192726Z
LOCATION:Online
URL:https://climate-adapt.eea.europa.eu/it/more-events/climate-science2pol
 icy-workshop
END:VEVENT
BEGIN:VTIMEZONE
TZID:Europe/Helsinki
X-LIC-LOCATION:Europe/Helsinki
BEGIN:STANDARD
DTSTART:20201025T030000
TZNAME:EET
TZOFFSETFROM:+0300
TZOFFSETTO:+0200
END:STANDARD
END:VTIMEZONE
END:VCALENDAR
