BEGIN:VCALENDAR
VERSION:2.0
PRODID:-//Plone.org//NONSGML plone.app.event//EN
X-WR-TIMEZONE:Europe/Helsinki
BEGIN:VEVENT
SUMMARY:Reti complesse e variabilità climatica
DTSTART;TZID=Europe/Helsinki:20150411T030000
DTEND;TZID=Europe/Helsinki:20150412T025959
DTSTAMP:20260419T214950Z
UID:b785b4e6c07a4661acc0b6db419ece36@climate-adapt.eea.europa.eu
CONTACT:http://finalconference.climatelinc.eu/event/0/
CREATED:20220910T225726Z
LAST-MODIFIED:20221005T192702Z
LOCATION:Vienna\, Austria
URL:https://climate-adapt.eea.europa.eu/it/more-events/complex-networks-an
 d-climate-variability
END:VEVENT
BEGIN:VTIMEZONE
TZID:Europe/Helsinki
X-LIC-LOCATION:Europe/Helsinki
BEGIN:DAYLIGHT
DTSTART:20150329T040000
TZNAME:EEST
TZOFFSETFROM:+0200
TZOFFSETTO:+0300
END:DAYLIGHT
END:VTIMEZONE
END:VCALENDAR
