BEGIN:VCALENDAR
VERSION:2.0
PRODID:-//Plone.org//NONSGML plone.app.event//EN
X-WR-TIMEZONE:Europe/Helsinki
BEGIN:VEVENT
SUMMARY:COP 26 — Sessione speciale: Soluzioni climatiche ad alto impatto
DTSTART;TZID=Europe/Helsinki:20211110T194500
DTEND;TZID=Europe/Helsinki:20211110T204500
DTSTAMP:20260421T160355Z
UID:bef96acc59c840ac9f2f8b81cf25d121@climate-adapt.eea.europa.eu
CONTACT:https://solutions.solarimpulse.com/e-pitch-high-impact-climate-sol
 utions
CREATED:20220910T225651Z
DESCRIPTION:Questo evento illustrerà in che modo le soluzioni climatiche 
 più redditizie contribuiscono agli obiettivi climatici della COP21 e avvi
 erà un dialogo con le istituzioni per accelerarne l'attuazione. A seguito
  di un'introduzione del direttore generale della Banca europea per gli inv
 estimenti Chris Hurst e della Bertrand Piccard sul lato della Solar Impuls
 e Foundation\, sarà presentata una serie di soluzioni ad alto impatto in 
 vari settori\, seguite da due cicli di tavole rotonde.
LAST-MODIFIED:20221005T192646Z
LOCATION:Online and Glasgow\, UK
URL:https://climate-adapt.eea.europa.eu/it/more-events/cop26-2013-special-
 session-high-impact-climate-solutions
END:VEVENT
BEGIN:VTIMEZONE
TZID:Europe/Helsinki
X-LIC-LOCATION:Europe/Helsinki
BEGIN:STANDARD
DTSTART:20211031T030000
TZNAME:EET
TZOFFSETFROM:+0300
TZOFFSETTO:+0200
END:STANDARD
END:VTIMEZONE
END:VCALENDAR
