BEGIN:VCALENDAR
VERSION:2.0
PRODID:-//Plone.org//NONSGML plone.app.event//EN
X-WR-TIMEZONE:Europe/Helsinki
BEGIN:VEVENT
SUMMARY:29a sessione della conferenza delle parti della convenzione quadro
  delle Nazioni Unite sui cambiamenti climatici
DTSTART;VALUE=DATE:20241111
DTEND;VALUE=DATE:20241124
DTSTAMP:20260420T011607Z
UID:03a2c4301a7b41abbc4f9204014268a6@climate-adapt.eea.europa.eu
CATEGORIES:event,COP
CONTACT:https://cop29.az/en
CREATED:20250422T182601Z
DESCRIPTION:La 29a sessione della conferenza delle parti della convenzione
  quadro delle Nazioni Unite sui cambiamenti climatici si terrà dall'11 al
  22 novembre 2024 a Baku\, in Azerbaigian.
LAST-MODIFIED:20250422T182601Z
LOCATION:Baku\, Azerbaijan
URL:https://climate-adapt.eea.europa.eu/it/more-events/cop29
END:VEVENT
END:VCALENDAR
